BEGIN:VCALENDAR
VERSION:2.0
PRODID:-// - ECPv6.15.18//NONSGML v1.0//EN
CALSCALE:GREGORIAN
METHOD:PUBLISH
X-ORIGINAL-URL:https://doshodan.com
X-WR-CALDESC:Évènements pour 
REFRESH-INTERVAL;VALUE=DURATION:PT1H
X-Robots-Tag:noindex
X-PUBLISHED-TTL:PT1H
BEGIN:VTIMEZONE
TZID:Europe/Paris
BEGIN:DAYLIGHT
TZOFFSETFROM:+0100
TZOFFSETTO:+0200
TZNAME:CEST
DTSTART:20240331T010000
END:DAYLIGHT
BEGIN:STANDARD
TZOFFSETFROM:+0200
TZOFFSETTO:+0100
TZNAME:CET
DTSTART:20241027T010000
END:STANDARD
BEGIN:DAYLIGHT
TZOFFSETFROM:+0100
TZOFFSETTO:+0200
TZNAME:CEST
DTSTART:20250330T010000
END:DAYLIGHT
BEGIN:STANDARD
TZOFFSETFROM:+0200
TZOFFSETTO:+0100
TZNAME:CET
DTSTART:20251026T010000
END:STANDARD
BEGIN:DAYLIGHT
TZOFFSETFROM:+0100
TZOFFSETTO:+0200
TZNAME:CEST
DTSTART:20260329T010000
END:DAYLIGHT
BEGIN:STANDARD
TZOFFSETFROM:+0200
TZOFFSETTO:+0100
TZNAME:CET
DTSTART:20261025T010000
END:STANDARD
BEGIN:DAYLIGHT
TZOFFSETFROM:+0100
TZOFFSETTO:+0200
TZNAME:CEST
DTSTART:20270328T010000
END:DAYLIGHT
BEGIN:STANDARD
TZOFFSETFROM:+0200
TZOFFSETTO:+0100
TZNAME:CET
DTSTART:20271031T010000
END:STANDARD
END:VTIMEZONE
BEGIN:VEVENT
DTSTART;TZID=Europe/Paris:20260322T000000
DTEND;TZID=Europe/Paris:20260322T235959
DTSTAMP:20260426T062828
CREATED:20221020T194601Z
LAST-MODIFIED:20251009T114953Z
UID:1396-1774137600-1774223999@doshodan.com
SUMMARY:Interclub TARTARAS DARGOIRE
DESCRIPTION:Compétition annuelle de Judo à la salle polyvalente.Le DIMANCHE 22 Mars à partir de 09H00.
URL:https://doshodan.com/event/interclub-tartaras-dargoire/
LOCATION:Salle polyvalente\, 3 Route de Dargoire\, Tartaras\, 42800\, France
END:VEVENT
BEGIN:VEVENT
DTSTART;TZID=Europe/Paris:20260131T080000
DTEND;TZID=Europe/Paris:20260131T170000
DTSTAMP:20260426T062828
CREATED:20260126T163221Z
LAST-MODIFIED:20260126T164037Z
UID:6252-1769846400-1769878800@doshodan.com
SUMMARY:Interclub BRIGNAIS
DESCRIPTION:
URL:https://doshodan.com/event/interclub-brignais/
LOCATION:GYMNASE MINSSIEUX – Boulevard des Sports – 69530 BRIGNAIS
END:VEVENT
BEGIN:VEVENT
DTSTART;TZID=Europe/Paris:20251219T183000
DTEND;TZID=Europe/Paris:20251219T200000
DTSTAMP:20260426T062828
CREATED:20220826T153530Z
LAST-MODIFIED:20251201T105711Z
UID:476-1766169000-1766174400@doshodan.com
SUMMARY:Arbre de Noël
DESCRIPTION:L’arbre de Noël du DOSHODAN aura lieu le 19/12/2025 à partir de 18h30.Au programme\, démonstration de Judo et Boxe & Visite du PERE NOEL.
URL:https://doshodan.com/event/arbre-de-noel/
END:VEVENT
BEGIN:VEVENT
DTSTART;TZID=Europe/Paris:20251014T200000
DTEND;TZID=Europe/Paris:20251014T210000
DTSTAMP:20260426T062828
CREATED:20240711T150003Z
LAST-MODIFIED:20250908T093655Z
UID:574-1760472000-1760475600@doshodan.com
SUMMARY:Assemblée générale
DESCRIPTION:Chers membres\n\nConformément à l’article 5 des statuts\, je vous invite à participer à l’assemblée générale ordinaire annuel de l’association qui se tiendra le 14 octobre 2025 à 20h00 dans le hall de la salle polyvalente intercommunale Tartaras/Dargoire.\n\nLes points suivants seront à l’ordre du jour :\n\n 	Rapport moral\n 	Rapport financier\n 	Renouvellement du bureau\n 	Projet et calendrier prévisionnel\n 	Question diverses…\n\nLes membres désireront présenter leur candidature au Conseil doit se manifester dès maintenant.\n\nTous les documents nécessaire à votre information sont tenues à votre disposition.\n\nJe vous rappelle qu’en cas d’empêchement\, vous pouvez vous faire représenter par un autre membre de l’association muni d’un pouvoir régulier.\n\nComptant sur votre présence\,\n\nLe bureau\,
URL:https://doshodan.com/event/assemblee-generale/
LOCATION:Salle polyvalente\, 3 Route de Dargoire\, Tartaras\, 42800\, France
ORGANIZER;CN="DOSHODAN DE TARTARAS DARGOIRE":MAILTO:doshodan@gmail.com
END:VEVENT
BEGIN:VEVENT
DTSTART;VALUE=DATE:20250901
DTEND;VALUE=DATE:20251001
DTSTAMP:20260426T062828
CREATED:20240729T150056Z
LAST-MODIFIED:20250908T093719Z
UID:481-1756684800-1759276799@doshodan.com
SUMMARY:Reprise des Cours
DESCRIPTION:Le Doshodan vous informe que la reprise des cours aura lieu le 1 Septembre 2025.
URL:https://doshodan.com/event/reprise-des-cours/
LOCATION:Salle polyvalente\, 3 Route de Dargoire\, Tartaras\, 42800\, France
END:VEVENT
END:VCALENDAR